BEGIN:VCALENDAR
VERSION:2.0
PRODID:-//Lerass - ECPv4.8//NONSGML v1.0//EN
CALSCALE:GREGORIAN
METHOD:PUBLISH
X-WR-CALNAME:Lerass
X-ORIGINAL-URL:https://www.lerass.com
X-WR-CALDESC:Évènements pour Lerass
BEGIN:VEVENT
DTSTART;TZID=Europe/Paris:20171124T090000
DTEND;TZID=Europe/Paris:20171124T130000
DTSTAMP:20260424T083224
CREATED:20171003T100423Z
LAST-MODIFIED:20171113T083230Z
UID:5995-1511514000-1511528400@www.lerass.com
SUMMARY:Soutenance de thèse de Pauline Amiel (Médiapolis-Grecom)
DESCRIPTION:\n\nL’identité professionnelle des localiers à l’heure des mutations économiques et de la dématérialisation de la presse locale\nLa presse locale est en pleine mutation. Actrice majeure de la constitution d’un espace public territorialisé\, elle subit la dématérialisation des contenus sans avoir trouvé encore sa voie. Les journalistes localiers\, au premier plan\, endurent les bouleversements en cours.Les entreprises de presse locale se transforment progressivement en groupes multimédias. Ces mutations économiques perturbent les localiers. Le constat de l’évolution vers le journalisme de communication a déjà été établi pour les presses nationale ou internationale\, nous proposons de l’étudier au niveau de la presse infra-nationale en France. Ces transformations socio-économiques\, qui s’inscrivent  dans le processus de transformation des industries culturelles et médiatiques\, altèrent les discours\, les pratiques et l’identité professionnelle des localiers.Le marketing et la dématérialisation des contenus journalistiques fonctionnent alors comme des rouages d’un mécanisme plus large qui impacte les rédactions locales. Les directions de ces groupes multimédias\, à travers plusieurs stratégies managériales\, agissent sur les représentations des localiers. C’est dans ce contexte que se créent de nouveaux mythes : le passé du groupe professionnel\, les lecteurs et les relations au territoire sont repensés. Leur identité professionnelle se trouve ainsi tiraillée entre la volonté de maintien des valeurs initiales du groupe professionnel et les adaptations imposées par leur situation actuelle. \n\n  \nSous la direction de Franck Bousquet\, Université Toulouse 3 \nJury : \nMarlène Coulomb-Gully\, Université Toulouse 2 \nBruno Raoul\, rapporteur\,Université Lille 3 \nRoselyne Ringoot\, rapporteure\, Université Grenoble Alpes \nMarc Bassoni\, Aix Marseille Université \n  \n
URL:https://www.lerass.com/event/soutenance-de-these-de-pauline-amiel-mediapolis-grecom/
LOCATION:Salle du Conseil\, IUT A Ponsan\, 115 B route de Narbonne\, Toulouse\, 31077
CATEGORIES:Soutenance
END:VEVENT
END:VCALENDAR