BEGIN:VCALENDAR
VERSION:2.0
PRODID:-//Lerass - ECPv4.8//NONSGML v1.0//EN
CALSCALE:GREGORIAN
METHOD:PUBLISH
X-WR-CALNAME:Lerass
X-ORIGINAL-URL:https://www.lerass.com
X-WR-CALDESC:Évènements pour Lerass
BEGIN:VEVENT
DTSTART;TZID=Europe/Paris:20180811T140000
DTEND;TZID=Europe/Paris:20190403T170000
DTSTAMP:20260419T224656
CREATED:20190403T092330Z
LAST-MODIFIED:20190409T075207Z
UID:6836-1533996000-1554310800@www.lerass.com
SUMMARY:La co-construction d'indicateurs de bien-être	N. Souillard -LERASS
DESCRIPTION:
URL:https://www.lerass.com/event/la-co-construction-dindicateurs-de-bien-etren-souillard-lerass/
CATEGORIES:Séminaire d'Axe
END:VEVENT
BEGIN:VEVENT
DTSTART;TZID=Europe/Paris:20181019T090000
DTEND;TZID=Europe/Paris:20181019T120000
DTSTAMP:20260419T224656
CREATED:20180922T085201Z
LAST-MODIFIED:20190211T083225Z
UID:6347-1539939600-1539950400@www.lerass.com
SUMMARY:Conseil du Lerass
DESCRIPTION:
URL:https://www.lerass.com/event/conseil-du-lerass-4/
CATEGORIES:Conseil de laboratoire
END:VEVENT
BEGIN:VEVENT
DTSTART;TZID=Europe/Paris:20181019T140000
DTEND;TZID=Europe/Paris:20181019T153000
DTSTAMP:20260419T224656
CREATED:20181010T141708Z
LAST-MODIFIED:20190211T083220Z
UID:6431-1539957600-1539963000@www.lerass.com
SUMMARY:Séminaire Organicom : Hélène Germain et Dominique Capdevielle
DESCRIPTION:Salle BC70 rdc du bâtiment central IUT A\, 115 route de Narbonne. \nEtudier les interactions entre chercheurs et usagers pour la conception participative d’objets connectés dans le domaine de la santé\nHélène Germain\, doctorante en sciences de l’information et de la communication\, Université Paul Sabatier\nLe vieillissement de la population en France et le souhait exprimé de demeurer à domicile incitent à développer des technologies afin notamment de pallier la perte d’autonomie. Mais les dispositifs proposés ne connaissent pas toujours le succès escompté et invitent au développement d’une conception dite « participative ». C’est dans ce contexte que nous nous proposons d’étudier d’une part les représentations des « acteurs » en présence et d’autre part les interactions des chercheurs entre eux puis des chercheurs avec des usagers. \nDe la constitutionnalisation de l’écologie à la VIème République. Comment la méthanisation peut permettre le changement de paradigme ?\nDominique Capdevielle\, doctorant en droit\, Université Toulouse Capitole\nDans quelle mesure la transition écologique est-elle aussi porteuse d’une transition démocratique ? L’étude de la démocratie participative au sein de projets de station de méthanisation permettra ici d’aborder les questions relatives aux facteurs de réussite de ces évolutions sociétales. Il sera notamment distingué des facteurs institutionnel et organisationnel\, dont la communication\, ou encore économique et technologique\, avec notamment l’irruption de financements participatifs\, libres et distribués rendus possible par la révolution numérique (crowdfunding\, blockchain). \n
URL:https://www.lerass.com/event/seminaire-organicom-helene-germain-et-dominique-capdevielle/
CATEGORIES:Séminaire d'équipe
END:VEVENT
END:VCALENDAR