BEGIN:VCALENDAR
VERSION:2.0
PRODID:-//Lerass - ECPv4.8//NONSGML v1.0//EN
CALSCALE:GREGORIAN
METHOD:PUBLISH
X-WR-CALNAME:Lerass
X-ORIGINAL-URL:https://www.lerass.com
X-WR-CALDESC:Évènements pour Lerass
BEGIN:VEVENT
DTSTART;TZID=Europe/Paris:20190613T130000
DTEND;TZID=Europe/Paris:20190613T160000
DTSTAMP:20260424T161853
CREATED:20180922T091711Z
LAST-MODIFIED:20190211T082718Z
UID:6386-1560430800-1560441600@www.lerass.com
SUMMARY:Axe MSN / PragmaTIC
DESCRIPTION:MDR\, UT2J\, « Maintenance et care des objets »\, Jérôme Denis (Télécom Paris)\, Yann Philippe Tastevin \n
URL:https://www.lerass.com/event/axe-msn-pragmatic-6/
CATEGORIES:Séminaire d'Axe
END:VEVENT
END:VCALENDAR