BEGIN:VCALENDAR
VERSION:2.0
PRODID:-//Lerass - ECPv4.8//NONSGML v1.0//EN
CALSCALE:GREGORIAN
METHOD:PUBLISH
X-WR-CALNAME:Lerass
X-ORIGINAL-URL:https://www.lerass.com
X-WR-CALDESC:Évènements pour Lerass
BEGIN:VEVENT
DTSTART;TZID=Europe/Paris:20190614T080000
DTEND;TZID=Europe/Paris:20190614T170000
DTSTAMP:20260424T175709
CREATED:20180922T085831Z
LAST-MODIFIED:20190211T082731Z
UID:6361-1560499200-1560531600@www.lerass.com
SUMMARY:Conseil du Lerass (CDU)
DESCRIPTION:
URL:https://www.lerass.com/event/conseil-du-lerass-cdu/
CATEGORIES:Conseil de laboratoire
END:VEVENT
END:VCALENDAR