BEGIN:VCALENDAR
VERSION:2.0
PRODID:-//Lerass - ECPv4.8//NONSGML v1.0//EN
CALSCALE:GREGORIAN
METHOD:PUBLISH
X-WR-CALNAME:Lerass
X-ORIGINAL-URL:https://www.lerass.com
X-WR-CALDESC:Évènements pour Lerass
BEGIN:VEVENT
DTSTART;TZID=Europe/Paris:20200313T133000
DTEND;TZID=Europe/Paris:20200313T170000
DTSTAMP:20260424T101537
CREATED:20191031T083155Z
LAST-MODIFIED:20200227T104419Z
UID:7108-1584106200-1584118800@www.lerass.com
SUMMARY:Séminaire MSN/Pragmatic "Lutter contre les réformes néolibérales de l'Université"
DESCRIPTION:Intervenant.e.s : \n\nJacob Matthews\, Paris 9\nAthina Karatzogianni\nLucie Loubère\nNikos Smyrnaios\n\n \nDans le cadre du mouvement des personnels de l’Enseignement supérieur et de la recherche nous vous invitons à une séance exceptionnelle du séminaire conjoint Pragmatic et Axe Médias et Médiations socio-numériques du LERASS sur le thème: \nLutter contre les réformes néolibérales de l’université : perspectives diachronique\, internationale et numérique \nVendredi 13 mars à 13h30\, Campus UT2J\, Bâtiment Olympe de Gouges\, 1er étage\, salle GS133 \nJacob Matthews\, Université Paris 8\, Sur la mobilisation sociale actuelle au sein de l’enseignement supérieur et de la recherche en France et en Grande-Bretagne : Parallèles et contrastes des luttes dans le champ universitaire et au-delà. » \nRésumé: Cette intervention a pour but d’apporter quelques éléments factuels et historiques permettant de contextualiser la mobilisation menée par le syndicat UCU en Grande Bretagne en 2019 (puis de nouveau en 2020). Il s’agira pour cela de préciser certaines spécificités du paysage syndical et des mouvements sociaux dans l’ESR\, en Grande Bretagne et en France. \nAthina Karatzogianni\, Université de Leicester\, « Le mouvement des universitaires britanniques et du syndicat UCU contre la\nréforme des retraites : des médias sociaux au piquet de grève. » \nRésumé: Cette intervention examine le rôle des médias sociaux dans l’action syndicale contemporaine et leur potentiel de revitalisation\, en examinant le cas du mouvement contre la réforme des retraites universitaires en Grande Bretagne. Les résultats préliminaires donnent un aperçu des flux et reflux discursifs du conflit en ligne ainsi que des leçons apprises sur l’activisme numérique par les responsables du syndicat UCU. \nLucie Loubère et Nikos Smyrnaios\, LERASS Universités Toulouse 2 et 3 « De la LRU à la LPPR: l’opposition des universitaires aux réformes d’inspiration néolibérale sur les réseaux socio-numériques » \nRésumé: Cette intervention vise à mettre en perspective l’usage militant de l’internet de la part des universitaires s’opposant aux « réformes » d’inspiration néolibérale. Elle fait un focus sur la mobilisation actuelle à partir d’un échantillon de tweets au moyen d’une analyse de réseaux et textométrique. \n
URL:https://www.lerass.com/event/axe-msn-seminaire-plateformes-numeriques-et-figures-de-leader-des-mouvements-sociaux-et-politiques/
LOCATION:Campus UT2J\, Bâtiment Olympe de Gouges\, 1er étage\, Salle GS 133
CATEGORIES:Séminaire d'Axe
END:VEVENT
END:VCALENDAR