BEGIN:VCALENDAR
VERSION:2.0
PRODID:-//Lerass - ECPv4.8//NONSGML v1.0//EN
CALSCALE:GREGORIAN
METHOD:PUBLISH
X-WR-CALNAME:Lerass
X-ORIGINAL-URL:https://www.lerass.com
X-WR-CALDESC:Évènements pour Lerass
BEGIN:VEVENT
DTSTART;VALUE=DATE:20200402
DTEND;VALUE=DATE:20200403
DTSTAMP:20260424T212022
CREATED:20200123T141328Z
LAST-MODIFIED:20200123T141417Z
UID:7347-1585785600-1585871999@www.lerass.com
SUMMARY:Séminaire de l'axe I2SP (Information\, Sciences\, Savoirs\, Pratiques) à Montpellier
DESCRIPTION:Thème : Données de la recherche \n
URL:https://www.lerass.com/event/seminaire-de-laxe-i2sp-information-sciences-savoirs-pratiques-a-montpellier/
LOCATION:Université Paul Valéry – Montpellier 3
CATEGORIES:Séminaire d'Axe
END:VEVENT
END:VCALENDAR