BEGIN:VCALENDAR
VERSION:2.0
PRODID:-//Lerass - ECPv4.8//NONSGML v1.0//EN
CALSCALE:GREGORIAN
METHOD:PUBLISH
X-WR-CALNAME:Lerass
X-ORIGINAL-URL:https://www.lerass.com
X-WR-CALDESC:Évènements pour Lerass
BEGIN:VEVENT
DTSTART;VALUE=DATE:20230317
DTEND;VALUE=DATE:20230318
DTSTAMP:20260419T235940
CREATED:20221024T135253Z
LAST-MODIFIED:20221024T135253Z
UID:9754-1679011200-1679097599@www.lerass.com
SUMMARY:Séminaire axe MOCEN
DESCRIPTION:ou 17 février 2023 \nTitre à confirmer \nIntervenant.e.s : \n\nSébastien Appiotti\, CELSA\, Université Paris 8\nStéphanie Marty\, MOCEN – LERASS\, Université Paul Valéry\n\n
URL:https://www.lerass.com/event/seminaire-axe-mocen-27/
CATEGORIES:Séminaire d'Axe
END:VEVENT
BEGIN:VEVENT
DTSTART;TZID=Europe/Paris:20230317T140000
DTEND;TZID=Europe/Paris:20230317T170000
DTSTAMP:20260419T235940
CREATED:20230222T104329Z
LAST-MODIFIED:20230315T110132Z
UID:10001-1679061600-1679072400@www.lerass.com
SUMMARY:Séminaire axe I2SP - Annulé
DESCRIPTION:Intervenante : Ghislaine Chartron \nThème : « Au croisement de l’IA et de l’ingénierie des connaissances » \n
URL:https://www.lerass.com/event/seminaire-axe-i2sp-11/
CATEGORIES:Séminaire d'Axe
END:VEVENT
BEGIN:VEVENT
DTSTART;TZID=Europe/Paris:20230317T143000
DTEND;TZID=Europe/Paris:20230317T163000
DTSTAMP:20260419T235940
CREATED:20221007T062825Z
LAST-MODIFIED:20230314T071848Z
UID:9623-1679063400-1679070600@www.lerass.com
SUMMARY:Séminaire axe Genre
DESCRIPTION:Intervenante : Marion DALIBERT\, maîtresse de conférences à l’Université de Lille\, Groupe de recherche interdisciplinaire en information et communication (GERiiCO) \nThème : Les médias d’information\, le genre et la République \nRésumé : En partant des représentations de genre formalisées à l’intérieur de récits médiatiques participant à la construction des problèmes publics du racisme\, du sexisme et de l’homophobie\, je me propose d’interroger la manière dont celles-ci participent à produire la race\, la classe et la francité. Plus précisément\, nous verrons que les médias d’information généraliste à diffusion nationale valorisent des féminités et des masculinités « républicaines » qui contribuent à la constitution d’un sujet « idéal » de la nation française affilié à la blanchité et aux classes supérieures. \nMarion Dalibert est maîtresse de conférences à l’Université de Lille\, où elle est chercheuse au Groupe de recherche interdisciplinaire en information et communication (GERiiCO) et où elle enseigne dans les formations en études culturelles de l’Institut des sciences sociales. Ses recherches portent sur la production du nationalisme dans les médias d’information généraliste et les rapports de genre\, de race et de classe qui y sont à l’œuvre. \n➙ Lien pour assister au séminaire en visio :  \nhttps://univ-tlse2.zoom.us/j/96056408147?pwd=ek5ia2dkMnl5OXpFWjlOdm9HMk5udz09 \n
URL:https://www.lerass.com/event/seminaire-axe-genre-et-medias-11/
LOCATION:UT2J\, Dpt Art&Com\, 56 Rue du Taur\, Salle Kantor\, Toulouse
CATEGORIES:Séminaire d'Axe
END:VEVENT
END:VCALENDAR